BEGIN:VCALENDAR
VERSION:2.0
PRODID:-//wp-events-plugin.com//7.2.3.1//EN
TZID:Europe/Berlin
X-WR-TIMEZONE:Europe/Berlin
BEGIN:VEVENT
UID:28@wsv-reitimwinkl.de
DTSTART:20160612T080000Z
DTEND:20160612T113000Z
DTSTAMP:20160602T100857Z
URL:https://wsv-reitimwinkl.de/events/athletiktest/
SUMMARY:Athletiktest
DESCRIPTION:Einladung zum Athletiktest am 12.6.2016 in Reit im Winkl und Ru
 hpolding. \n\nEinladung und Ausschreibung\n\n\n
CATEGORIES:Langlauf,Nordische Kombination,Skisprung
LOCATION:Turnhalle Reit im Winkl\, Schulweg 1\, Reit im Winkl\, Bayern\, 83
 242\, Deutschland
GEO:47.67910000000001;12.471199999999953
X-APPLE-STRUCTURED-LOCATION;VALUE=URI;X-ADDRESS=Schulweg 1\, Reit im Winkl\
 , Bayern\, 83242\, Deutschland;X-APPLE-RADIUS=100;X-TITLE=Turnhalle Reit i
 m Winkl:geo:47.67910000000001,12.471199999999953
END:VEVENT
END:VCALENDAR