BEGIN:VCALENDAR
VERSION:2.0
PRODID:-//wp-events-plugin.com//7.2.3.1//EN
TZID:Europe/Berlin
X-WR-TIMEZONE:Europe/Berlin
BEGIN:VEVENT
UID:85@wsv-reitimwinkl.de
DTSTART;TZID=Europe/Berlin;VALUE=DATE:20191219
DTEND;TZID=Europe/Berlin;VALUE=DATE:20191220
DTSTAMP:20191128T203706Z
URL:https://wsv-reitimwinkl.de/events/christkindlsuchen-kids-ll-sp/
SUMMARY:Christkindlsuchen Kids LL + SP
DESCRIPTION:
CATEGORIES:Langlauf,Skisprung
LOCATION:Zielhaus WSV Reit im Winkl\, Tirolerstraße 35\, Reit im Winkl\, B
 ayern\, 83242\, Chiemgau\, Deutschland
GEO:47.6749338;12.463466499999981
X-APPLE-STRUCTURED-LOCATION;VALUE=URI;X-ADDRESS=Tirolerstraße 35\, Reit im
  Winkl\, Bayern\, 83242\, Chiemgau\, Deutschland;X-APPLE-RADIUS=100;X-TITL
 E=Zielhaus WSV Reit im Winkl:geo:47.6749338,12.463466499999981
END:VEVENT
BEGIN:VTIMEZONE
TZID:Europe/Berlin
X-LIC-LOCATION:Europe/Berlin
BEGIN:STANDARD
DTSTART:20191027T020000
TZOFFSETFROM:+0200
TZOFFSETTO:+0100
TZNAME:CET
END:STANDARD
END:VTIMEZONE
END:VCALENDAR