BEGIN:VCALENDAR
VERSION:2.0
PRODID:-//wp-events-plugin.com//7.2.3.1//EN
TZID:Europe/Berlin
X-WR-TIMEZONE:Europe/Berlin
BEGIN:VEVENT
UID:171@wsv-reitimwinkl.de
DTSTART;TZID=Europe/Berlin:20230305T093000
DTEND;TZID=Europe/Berlin:20230305T120000
DTSTAMP:20230222T195503Z
URL:https://wsv-reitimwinkl.de/events/clubmeisterschaft-alpin-2023/
SUMMARY:Clubmeisterschaft Alpin 2023
DESCRIPTION:Alpin/ Snowboard: 09:30\n\nLanglauf: 14:00\n\nSiegerehrung: 17:
 00
CATEGORIES:Ski-Alpin
LOCATION:Skilifte Benzeck\, Klausenbach\, Reit im Winkl\, Bayern\, 83242\, 
 Chiemgau\, Deutschland
GEO:47.663618651679464;12.46834527777105
X-APPLE-STRUCTURED-LOCATION;VALUE=URI;X-ADDRESS=Klausenbach\, Reit im Winkl
 \, Bayern\, 83242\, Chiemgau\, Deutschland;X-APPLE-RADIUS=100;X-TITLE=Skil
 ifte Benzeck:geo:47.663618651679464,12.46834527777105
END:VEVENT
BEGIN:VTIMEZONE
TZID:Europe/Berlin
X-LIC-LOCATION:Europe/Berlin
BEGIN:STANDARD
DTSTART:20221030T020000
TZOFFSETFROM:+0200
TZOFFSETTO:+0100
TZNAME:CET
END:STANDARD
END:VTIMEZONE
END:VCALENDAR