BEGIN:VCALENDAR
VERSION:2.0
PRODID:-//wp-events-plugin.com//7.2.3.1//EN
TZID:Europe/Berlin
X-WR-TIMEZONE:Europe/Berlin
BEGIN:VEVENT
UID:55@wsv-reitimwinkl.de
DTSTART;VALUE=DATE:20180213
DTEND;VALUE=DATE:20180214
DTSTAMP:20171106T121120Z
URL:https://wsv-reitimwinkl.de/events/faschingsdienstag-2018-in-reit-im-wi
 nkl/
SUMMARY:Faschingsdienstag 2018 in Reit im Winkl
DESCRIPTION:Auch heuer findet wieder die traditionelle Faschingsparty am Ra
 thausplatz im Reit im Winkler Ortszentrum statt.\nDabei wird richtig abgef
 eiert und für die Party-Stimmung sorgt Party DJ Marc Pesch von Antenne D
 üsseldorf\, der euch mit den besten Musikhits zum Feiern bewegt. Denn Mar
 c\, der seit 1994 als Moderator für verschiedenen Radiosender in Nordrhei
 n-Westfalen arbeitet\, weiß wie man die Stimmung zum Kochen bringt.\n\nDe
 sweiteren findet auch ein Närrisch\, lustiger Faschingszug mit Beteiligun
 g vieler Vereine und Gruppen durch den Ortskern mit mehreren Runden statt.
  Dieser wird angeführt von der Musikkapelle Reit im Winkl\, lustig moderr
 iet vom Rathausbalkon.\n\nFeiert mit beim Reit im Winkler Faschingsspektak
 el.\n▆▆▆▆▆▆▆▆▆▆▆▆▆▆▆▆▆▆▆▆▆▆▆
 ▆▆▆▆▆▆▆▆▆\n\n★ Ab 11:00 Uhr Bewirtung an der Faschings
 bar mit Bosnergrill.\n\n★ Ab 13.00 Uhr Beginn der Faschings-Party mit DJ
 - Marc Pesch aus Grevenbroich. Er präsentiert die aktuellen Faschinghits 
 aus Köln und Düsseldorf.\n\n★ Ab 14.00 Uhr Faschingsumzug durch die Or
 tsmitte moderiert von Walter Petersen\n\n★ Ab 15.00 Uhr geht’s weiter 
 mit der großen Faschingsparty mit DJ Marc Pesch\, der euch richtig einhei
 zen wird und euch nochmal ein spezielles Highlight am letzten Tag der Fasc
 hingszeit bietet.\n\n★ Ende ca. um 21:00 Uhr.\n\nAuf a narrische Zeit\, 
 guade Masken und a Gaudi freut sich der Wintersportverein und die Freiwill
 ige Feuerwehr Reit im Winkl.\n▆▆▆▆▆▆▆▆▆▆▆▆▆▆
 ▆▆▆▆▆▆▆▆▆▆▆▆▆▆▆▆▆▆\n#Reitimwinkl #Fasc
 hing #gaudi #Party #Event #Stimmung #Veranstaltung #Umzug #Faschingszug #S
 paß #lustig #freude #Karneval #Fasnacht #Dienstag #Fußballclub #Feuerweh
 r #WSV #Fußballverein #Faschingsumzug #Winter
CATEGORIES:Events
LOCATION:Dorfzentrum Reit im Winkl\, Rathausplatz 5\, Reit im Winkl\, Bayer
 n\, 83242\, Chiemgau\, Deutschland
GEO:47.6771;12.469990000000053
X-APPLE-STRUCTURED-LOCATION;VALUE=URI;X-ADDRESS=Rathausplatz 5\, Reit im Wi
 nkl\, Bayern\, 83242\, Chiemgau\, Deutschland;X-APPLE-RADIUS=100;X-TITLE=D
 orfzentrum Reit im Winkl:geo:47.6771,12.469990000000053
END:VEVENT
END:VCALENDAR