BEGIN:VCALENDAR
VERSION:2.0
PRODID:-//wp-events-plugin.com//7.2.3.1//EN
TZID:Europe/Berlin
X-WR-TIMEZONE:Europe/Berlin
BEGIN:VEVENT
UID:158@wsv-reitimwinkl.de
DTSTART;TZID=Europe/Berlin:20220708T180000
DTEND;TZID=Europe/Berlin:20220708T230000
DTSTAMP:20220525T200233Z
URL:https://wsv-reitimwinkl.de/events/siegerehrung-clubmeisterschaft-2022-
 helferfest/
SUMMARY:Siegerehrung Clubmeisterschaft 2022 - Helferfest
DESCRIPTION:
LOCATION:Zielhaus WSV Reit im Winkl\, Tirolerstraße 35\, Reit im Winkl\, B
 ayern\, 83242\, Chiemgau\, Deutschland
GEO:47.6749338;12.463466499999981
X-APPLE-STRUCTURED-LOCATION;VALUE=URI;X-ADDRESS=Tirolerstraße 35\, Reit im
  Winkl\, Bayern\, 83242\, Chiemgau\, Deutschland;X-APPLE-RADIUS=100;X-TITL
 E=Zielhaus WSV Reit im Winkl:geo:47.6749338,12.463466499999981
END:VEVENT
BEGIN:VTIMEZONE
TZID:Europe/Berlin
X-LIC-LOCATION:Europe/Berlin
BEGIN:DAYLIGHT
DTSTART:20220327T030000
TZOFFSETFROM:+0100
TZOFFSETTO:+0200
TZNAME:CEST
END:DAYLIGHT
END:VTIMEZONE
END:VCALENDAR