BEGIN:VCALENDAR
VERSION:2.0
PRODID:-//wp-events-plugin.com//7.2.3.1//EN
TZID:Europe/Berlin
X-WR-TIMEZONE:Europe/Berlin
BEGIN:VEVENT
UID:165@wsv-reitimwinkl.de
DTSTART;TZID=Europe/Berlin:20230107T090000
DTEND;TZID=Europe/Berlin:20230107T130000
DTSTAMP:20221124T211919Z
URL:https://wsv-reitimwinkl.de/events/sparkassen-cup-2023/
SUMMARY:Sparkassen Cup 2023
DESCRIPTION:
CATEGORIES:Ski-Alpin
LOCATION:Skilifte Benzeck\, Klausenbach\, Reit im Winkl\, Bayern\, 83242\, 
 Chiemgau\, Deutschland
GEO:47.663618651679464;12.46834527777105
X-APPLE-STRUCTURED-LOCATION;VALUE=URI;X-ADDRESS=Klausenbach\, Reit im Winkl
 \, Bayern\, 83242\, Chiemgau\, Deutschland;X-APPLE-RADIUS=100;X-TITLE=Skil
 ifte Benzeck:geo:47.663618651679464,12.46834527777105
END:VEVENT
BEGIN:VTIMEZONE
TZID:Europe/Berlin
X-LIC-LOCATION:Europe/Berlin
BEGIN:STANDARD
DTSTART:20221030T020000
TZOFFSETFROM:+0200
TZOFFSETTO:+0100
TZNAME:CET
END:STANDARD
END:VTIMEZONE
END:VCALENDAR